BEGIN:VCALENDAR
VERSION:2.0
PRODID:-//Malawi Energy Regulatory Authority - ECPv5.1.6//NONSGML v1.0//EN
CALSCALE:GREGORIAN
METHOD:PUBLISH
X-WR-CALNAME:Malawi Energy Regulatory Authority
X-ORIGINAL-URL:https://mera.mw
X-WR-CALDESC:Events for Malawi Energy Regulatory Authority
BEGIN:VTIMEZONE
TZID:UTC
BEGIN:STANDARD
TZOFFSETFROM:+0000
TZOFFSETTO:+0000
TZNAME:UTC
DTSTART:20200101T000000
END:STANDARD
END:VTIMEZONE
BEGIN:VEVENT
DTSTART;TZID=UTC:20200910T100000
DTEND;TZID=UTC:20200910T120000
DTSTAMP:20210818T080711
CREATED:20200709T091711Z
LAST-MODIFIED:20200709T091711Z
UID:1483-1599732000-1599739200@mera.mw
SUMMARY:Consumer and Customer Forum
DESCRIPTION:
URL:https://mera.mw/event/consumer-and-customer-forum/
END:VEVENT
END:VCALENDAR